BEGIN:VCALENDAR
PRODID:-//dvv-bw.de//dvv.Portalplattform//DE
VERSION:2.0
METHOD:PUBLISH
BEGIN:VEVENT
DTSTART:20260506T083000Z
DTEND:20260506T093000Z
DTSTAMP:20260424T084102Z
RRULE;FREQ=DAILY;UNTIL=20260507T092959Z
UID:669382653-669382700-1778056200000
SUMMARY:Bücherzwerge - Spielerische Förderung für Kleinkinder
LOCATION:Stadtbibliothek Ettlingen, Obere Zwingergasse 12, 76275 Ettlingen
DESCRIPTION:Kleinkinder ab ca. 1-3 Jahre sind zusammen mit Eltern oder Großeltern eingeladen\, die Bibliothek zu entdecken: Es wird gesungen\, gespielt\, gereimt und gelesen und so auf spielerische Art die Freude an Wortspielen und Sprache geweckt. Dauer ca. 45-60 Minuten Begrenzte Teilnehmerzahl | Anmeldung erforderlich\nAnmeldungen unter Tel. 07243/ 101- 207 oder stadtbibliothek@ettlingen.de
CLASS:PUBLIC
X-ALT-DESC;FMTTYPE=text/html:Kleinkinder ab ca. 1-3 Jahre sind zusammen mit Eltern oder Großeltern eingeladen\, die Bibliothek zu entdecken: Es wird gesungen\, gespielt\, gereimt und gelesen und so auf spielerische Art die Freude an Wortspielen und Sprache geweckt. Dauer ca. 45-60 Minuten Begrenzte Teilnehmerzahl | Anmeldung erforderlich<br>Anmeldungen unter Tel. 07243/ 101- 207 oder stadtbibliothek@ettlingen.de
END:VEVENT
END:VCALENDAR
