BEGIN:VCALENDAR
PRODID:-//dvv-bw.de//dvv.Portalplattform//DE
VERSION:2.0
METHOD:PUBLISH
BEGIN:VEVENT
DTSTART:20260530T220000Z
DTEND:20260531T215900Z
DTSTAMP:20260424T181135Z
RRULE;FREQ=DAILY;UNTIL=20260601T215859Z
UID:669369625-669369507-1780178400000
SUMMARY:Dampfzug ins Albtal
LOCATION:Bahnhof Ettlingen Stadt
DESCRIPTION:Die einfache Fahrt kostet pro Person 13\,- €\, hin und zurück 26\,- €. Wer eine Deutschlandkarte oder eine andere Nahverkehrsfahrkarte hat\, bezahlt nur den Nostalgiezuschlag 8\,- € bzw 16\,- €. Kinder (6 bis 14 Jahre) jeweils den halben Preis. Fahrräder werden im Gepäckwagen kostenlos befördert.\nDetaillierte Informationen und die Möglichkeit\, Fahrkarten zu buchen\, sind unter dampfnostalgie-karlsruhe.de vorhanden. Dort finden Sie auch andere Fahrziele\, zum Beispiel durchs Murgtal nach Baiersbronn (ab 03. Mai).
CLASS:PUBLIC
X-ALT-DESC;FMTTYPE=text/html:Die einfache Fahrt kostet pro Person 13\,- &euro;\, hin und zurück 26\,- &euro;. Wer eine Deutschlandkarte oder eine andere Nahverkehrsfahrkarte hat\, bezahlt nur den Nostalgiezuschlag 8\,- &euro; bzw 16\,- &euro;. Kinder (6 bis 14 Jahre) jeweils den halben Preis. Fahrräder werden im Gepäckwagen kostenlos befördert.<br>Detaillierte Informationen und die Möglichkeit\, Fahrkarten zu buchen\, sind unter dampfnostalgie-karlsruhe.de vorhanden. Dort finden Sie auch andere Fahrziele\, zum Beispiel durchs Murgtal nach Baiersbronn (ab 03. Mai).
END:VEVENT
END:VCALENDAR
