BEGIN:VCALENDAR
PRODID:-//dvv-bw.de//dvv.Portalplattform//DE
VERSION:2.0
METHOD:PUBLISH
BEGIN:VEVENT
DTSTART:20260509T173000Z
DTEND:20260509T200000Z
DTSTAMP:20260424T222805Z
RRULE;FREQ=DAILY;UNTIL=20260510T195959Z
UID:669358304-669358402-1778347800000
SUMMARY:Frühjahrskonzert "70 Jahre MVO"
LOCATION:Waldsaumhalle Oberweier, Zum Scheffelhof 22, 76275 Ettlingen
DESCRIPTION:Eintritt auf Spendebasis.
CLASS:PUBLIC
X-ALT-DESC;FMTTYPE=text/html:Eintritt auf Spendebasis.
END:VEVENT
END:VCALENDAR
