BEGIN:VCALENDAR
PRODID:-//dvv-bw.de//dvv.Portalplattform//DE
VERSION:2.0
METHOD:PUBLISH
BEGIN:VEVENT
DTSTART:20260430T220000Z
DTEND:20260501T215900Z
DTSTAMP:20260424T234852Z
RRULE;FREQ=DAILY;UNTIL=20260502T215859Z
UID:669407508-669407401-1777586400000
SUMMARY:Gegensätze | Ausstellung
LOCATION:Art Galerie Ettlingen\, Kronenstraße 5\, 76275 Ettlingen
DESCRIPTION:Freier Eintritt.
CLASS:PUBLIC
X-ALT-DESC;FMTTYPE=text/html:Freier Eintritt.
END:VEVENT
END:VCALENDAR
