BEGIN:VCALENDAR
PRODID:-//dvv-bw.de//dvv.Portalplattform//DE
VERSION:2.0
METHOD:PUBLISH
BEGIN:VEVENT
DTSTART:20260425T180000Z
DTEND:20260425T200000Z
DTSTAMP:20260424T214702Z
RRULE;FREQ=DAILY;UNTIL=20260426T195959Z
UID:668824852-668824752-1777140000000
SUMMARY:Gunzi Heil und Bernd Kohlhepp
LOCATION:Waldsaumhalle Oberweier, Zum Scheffelhof 22, 76275 Ettlingen
DESCRIPTION:Eintrittspreis 20\,- € | Kontaktaufnahme für den Vorverkauf per E-Mail an vorstand@tsvoberweier.de oder telefonisch an 0171 955 1883.
CLASS:PUBLIC
X-ALT-DESC;FMTTYPE=text/html:Eintrittspreis 20\,- &euro; | Kontaktaufnahme für den Vorverkauf per E-Mail an vorstand@tsvoberweier.de oder telefonisch an 0171 955 1883.
END:VEVENT
END:VCALENDAR
