BEGIN:VCALENDAR
PRODID:-//dvv-bw.de//dvv.Portalplattform//DE
VERSION:2.0
METHOD:PUBLISH
BEGIN:VEVENT
DTSTART:20260430T220000Z
DTEND:20260501T215900Z
DTSTAMP:20260424T095744Z
RRULE;FREQ=DAILY;UNTIL=20260502T215859Z
UID:669382487-669103852-1777586400000
SUMMARY:Karikaturen Ausstellung "Glänzende Aussichten "
LOCATION:Stadtbibliothek Ettlingen, Obere Zwingergasse 12, 76275 Ettlingen
DESCRIPTION:"Humor ist\, wenn man trotzdem lacht": Die Ausstellung bringt Humor und kritisches Denken zusammen. Karikaturistinnen und Karikaturisten thematisieren mit einem Augenzwinkern drängende Herausforderungen unserer Zeit wie Klimawandel\, Konsum\, Gerechtigkeit und Lebensstil. Die Ausstellung\, konzipiert von MISEREOR\, richtet sich an alle Generationen und lädt provokant und mit viel Witz ein\, eigene Gewohnheiten zu hinterfragen. Lassen Sie sich überraschen\, berühren und inspirieren zum Mitwirken für eine lebenswerte Zukunft! Die Ausstellung\, initiiert von den Omas for future/Regionalgruppe Ettlingen\, kann während der Öffnungszeiten der Bibliothek besucht werden.\nAusstellungseröffnung am 21.04.2026 um 18.30 UhrKlima - Quiz am Freitag\, 24.04.2026 um 16.30 Uhr\n \nÖffnungszeiten der Stadtbibliothek: \nDienstag 12:00-18:00 Uhr\nMittwoch 10:00-18:00 Uhr\nDonnerstag 12:00-18:00 Uhr\nFreitag 12:00-18:00 Uhr\nSamstag 10:00-13:00 Uhr
CLASS:PUBLIC
X-ALT-DESC;FMTTYPE=text/html:"Humor ist\, wenn man trotzdem lacht": Die Ausstellung bringt Humor und kritisches Denken zusammen. Karikaturistinnen und Karikaturisten thematisieren mit einem Augenzwinkern drängende Herausforderungen unserer Zeit wie Klimawandel\, Konsum\, Gerechtigkeit und Lebensstil. Die Ausstellung\, konzipiert von MISEREOR\, richtet sich an alle Generationen und lädt provokant und mit viel Witz ein\, eigene Gewohnheiten zu hinterfragen. Lassen Sie sich überraschen\, berühren und inspirieren zum Mitwirken für eine lebenswerte Zukunft! Die Ausstellung\, initiiert von den Omas for future/Regionalgruppe Ettlingen\, kann während der Öffnungszeiten der Bibliothek besucht werden.<br>Ausstellungseröffnung am 21.04.2026 um 18.30 UhrKlima - Quiz am Freitag\, 24.04.2026 um 16.30 Uhr<br> <br>Öffnungszeiten der Stadtbibliothek: <br>Dienstag 12:00-18:00 Uhr<br>Mittwoch 10:00-18:00 Uhr<br>Donnerstag 12:00-18:00 Uhr<br>Freitag 12:00-18:00 Uhr<br>Samstag 10:00-13:00 Uhr
END:VEVENT
END:VCALENDAR
