BEGIN:VCALENDAR
PRODID:-//dvv-bw.de//dvv.Portalplattform//DE
VERSION:2.0
METHOD:PUBLISH
BEGIN:VEVENT
DTSTART:20260425T220000Z
DTEND:20260426T215900Z
DTSTAMP:20260424T133901Z
RRULE;FREQ=DAILY;UNTIL=20260427T215859Z
UID:668699309-668699209-1777154400000
SUMMARY:Kraichgauwanderung
LOCATION:Rund um Oberöwisheim
DESCRIPTION:Start unserer Wanderung ist der Parkplatz beim Friedhof von Unteröwisheim. Höhepunkte dieser Tour:• Die Galgenhohle: ein Hohlweg\, dessen Lösswände 12 Meter in die Höhe ragen.• Himmelreichhütte mit Blick auf Zeutern und den Kraichgau.• Astronomiepark Sternwarte Kraichtal: Diese Sternwarte ist was für Große und Kleine\, sehr anschaulich und mit viel Liebe zum Detail.• Pfannwaldsee: ein kleines Naturjuwel\, wo man mit viel Glück auch einen Eisvogel sehen kann.\nAnforderungen: Kondition für 17 km Strecke und 300 Hm auf Wegen und schmalen Pfaden. Rucksackverpflegung.\nTreffpunkt: um 08:30 Uhr am Dickhäuterplatz (Kino Kulisse)\, alternativ um 09:15 Uhr am Parkplatz beim Friedhof Unteröwisheim am Ortsausgang Richtung Münzesheim.\nLeitung: Helmut Wahl | Tel. (0 72 32) 26 61 | E-Mail: helmutwahl0505@yahoo.de
CLASS:PUBLIC
X-ALT-DESC;FMTTYPE=text/html:Start unserer Wanderung ist der Parkplatz beim Friedhof von Unteröwisheim. Höhepunkte dieser Tour:&bull; Die Galgenhohle: ein Hohlweg\, dessen Lösswände 12 Meter in die Höhe ragen.&bull; Himmelreichhütte mit Blick auf Zeutern und den Kraichgau.&bull; Astronomiepark Sternwarte Kraichtal: Diese Sternwarte ist was für Große und Kleine\, sehr anschaulich und mit viel Liebe zum Detail.&bull; Pfannwaldsee: ein kleines Naturjuwel\, wo man mit viel Glück auch einen Eisvogel sehen kann.<br>Anforderungen: Kondition für 17 km Strecke und 300 Hm auf Wegen und schmalen Pfaden. Rucksackverpflegung.<br>Treffpunkt: um 08:30 Uhr am Dickhäuterplatz (Kino Kulisse)\, alternativ um 09:15 Uhr am Parkplatz beim Friedhof Unteröwisheim am Ortsausgang Richtung Münzesheim.<br>Leitung: Helmut Wahl | Tel. (0 72 32) 26 61 | E-Mail: helmutwahl0505@yahoo.de
END:VEVENT
END:VCALENDAR
