BEGIN:VCALENDAR
PRODID:-//dvv-bw.de//dvv.Portalplattform//DE
VERSION:2.0
METHOD:PUBLISH
BEGIN:VEVENT
DTSTART:20260425T220000Z
DTEND:20260426T215900Z
DTSTAMP:20260425T015204Z
RRULE;FREQ=DAILY;UNTIL=20260427T215859Z
UID:668699310-668699210-1777154400000
SUMMARY:Sportliche Wanderung: Glaswaldsee Renchtal
LOCATION:Renchtal
DESCRIPTION:Wir verbinden einige Steige im Renchtal zu einer Runde. Vom Bahnhof Peterstal geht es über den Glaswaldseeblick hinauf zur Alexanderschanze und auf der orographisch rechten Talseite zurück zum Bahnhof Peterstal.\nAnforderungen: Kondition für ca. 30 km Strecke mit 1000 Hm auf Forstwegen und teilweise schmalen Pfaden\, Rucksackverpflegung (auf Wunsch ist eine Einkehr in der Renchtalhütte möglich).\nTreffpunkt: Hauptbahnhof Karlsruhe\, Abfahrtszeit wird noch auf der Homepage dav-ettlingen.de bekannt gegeben.\nAnmeldung: direkt bei der Leitung bis Mittwoch vor der Tour.\nLeitung: Heidi Georgi | Tel. (01 75) 5 96 80 77 | E-Mail: heidi.georgi@web.de
CLASS:PUBLIC
X-ALT-DESC;FMTTYPE=text/html:Wir verbinden einige Steige im Renchtal zu einer Runde. Vom Bahnhof Peterstal geht es über den Glaswaldseeblick hinauf zur Alexanderschanze und auf der orographisch rechten Talseite zurück zum Bahnhof Peterstal.<br>Anforderungen: Kondition für ca. 30 km Strecke mit 1000 Hm auf Forstwegen und teilweise schmalen Pfaden\, Rucksackverpflegung (auf Wunsch ist eine Einkehr in der Renchtalhütte möglich).<br>Treffpunkt: Hauptbahnhof Karlsruhe\, Abfahrtszeit wird noch auf der Homepage dav-ettlingen.de bekannt gegeben.<br>Anmeldung: direkt bei der Leitung bis Mittwoch vor der Tour.<br>Leitung: Heidi Georgi | Tel. (01 75) 5 96 80 77 | E-Mail: heidi.georgi@web.de
END:VEVENT
END:VCALENDAR
